BEGIN:VCALENDAR
VERSION:2.0
PRODID:-// - ECPv6.13.2//NONSGML v1.0//EN
CALSCALE:GREGORIAN
METHOD:PUBLISH
X-ORIGINAL-URL:https://icejsd.org
X-WR-CALDESC:Events for 
REFRESH-INTERVAL;VALUE=DURATION:PT1H
X-Robots-Tag:noindex
X-PUBLISHED-TTL:PT1H
BEGIN:VTIMEZONE
TZID:UTC
BEGIN:STANDARD
TZOFFSETFROM:+0000
TZOFFSETTO:+0000
TZNAME:UTC
DTSTART:20200101T000000
END:STANDARD
END:VTIMEZONE
BEGIN:VEVENT
DTSTART;TZID=UTC:20200910T153000
DTEND;TZID=UTC:20200910T163000
DTSTAMP:20260420T190854
CREATED:20200821T071938Z
LAST-MODIFIED:20200821T071938Z
UID:793-1599751800-1599755400@icejsd.org
SUMMARY:September ICEJ Meeting
DESCRIPTION:ICEJ will be having its monthly meeting on September 10th at 3:30 PM. Contact us for the zoom link!
URL:https://icejsd.org/calendar/september-icej-meeting/
LOCATION:Zoom Link
END:VEVENT
END:VCALENDAR