BEGIN:VCALENDAR
VERSION:2.0
PRODID:-// - ECPv6.13.2//NONSGML v1.0//EN
CALSCALE:GREGORIAN
METHOD:PUBLISH
X-ORIGINAL-URL:https://icejsd.org
X-WR-CALDESC:Events for 
REFRESH-INTERVAL;VALUE=DURATION:PT1H
X-Robots-Tag:noindex
X-PUBLISHED-TTL:PT1H
BEGIN:VTIMEZONE
TZID:America/Los_Angeles
BEGIN:DAYLIGHT
TZOFFSETFROM:-0800
TZOFFSETTO:-0700
TZNAME:PDT
DTSTART:20200308T100000
END:DAYLIGHT
BEGIN:STANDARD
TZOFFSETFROM:-0700
TZOFFSETTO:-0800
TZNAME:PST
DTSTART:20201101T090000
END:STANDARD
END:VTIMEZONE
BEGIN:VEVENT
DTSTART;TZID=America/Los_Angeles:20201121T100000
DTEND;TZID=America/Los_Angeles:20201121T120000
DTSTAMP:20260420T153550
CREATED:20201031T135811Z
LAST-MODIFIED:20201111T002326Z
UID:881-1605952800-1605960000@icejsd.org
SUMMARY:Cultivating Resilience Virtual Workshop
DESCRIPTION:Interfaith Coalition for Earth Justice invites you to save the date for our upcoming online workshop in November\, Cultivating Resilience. These times of uncertainty\, chaos\, and transformation require that we attend to our body\, mind\, and spirit. We need tools to keep us connected\, resilient\, and restored. In this workshop\, the Rev. Dr. Beth Johnson and Rev. Kurt Kuhwald will guide us through practices that provide a foundation for resilience and hope. The workshop draws from the evolving edge of the Work that Reconnects developed by root teacher\, Joanna Macy\, and the spiral of the Work that Reconnects. \nSD350 is excited to co-sponsor this event with ICEJ. \nClick here to register!
URL:https://icejsd.org/calendar/cultivating-resilience-virtual-workshop/
LOCATION:Zoom Link
END:VEVENT
END:VCALENDAR