BEGIN:VCALENDAR
VERSION:2.0
PRODID:-// - ECPv6.13.2//NONSGML v1.0//EN
CALSCALE:GREGORIAN
METHOD:PUBLISH
X-ORIGINAL-URL:https://icejsd.org
X-WR-CALDESC:Events for 
REFRESH-INTERVAL;VALUE=DURATION:PT1H
X-Robots-Tag:noindex
X-PUBLISHED-TTL:PT1H
BEGIN:VTIMEZONE
TZID:America/Los_Angeles
BEGIN:DAYLIGHT
TZOFFSETFROM:-0800
TZOFFSETTO:-0700
TZNAME:PDT
DTSTART:20210314T100000
END:DAYLIGHT
BEGIN:STANDARD
TZOFFSETFROM:-0700
TZOFFSETTO:-0800
TZNAME:PST
DTSTART:20211107T090000
END:STANDARD
END:VTIMEZONE
BEGIN:VEVENT
DTSTART;TZID=America/Los_Angeles:20210210T183000
DTEND;TZID=America/Los_Angeles:20210210T200000
DTSTAMP:20260420T191146
CREATED:20210129T144829Z
LAST-MODIFIED:20210129T144829Z
UID:920-1612981800-1612987200@icejsd.org
SUMMARY:External: Fratelli Tutti- Sisters and Brothers All
DESCRIPTION:We live in challenging times. Pope Francis has written an encyclical called Fratelli Tutti that speak about unity and fraternity. We are all sisters and brothers and need to listen to and enter into dialogue with those who think differently than we do. \nConsidering this\, Fr. Emmet Farrell has taken the initiative to call together leading voices from the Muslim\, Jewish\, and Catholic traditions to add the voice of faith and hope from their different perspectives to address the present moment. \nMore information about this free webinar can be found in this flyer. \n 
URL:https://icejsd.org/calendar/external-fratelli-tutti-sisters-and-brothers-all/
LOCATION:California
END:VEVENT
BEGIN:VEVENT
DTSTART;TZID=America/Los_Angeles:20210211T153000
DTEND;TZID=America/Los_Angeles:20210211T170000
DTSTAMP:20260420T191146
CREATED:20210129T142435Z
LAST-MODIFIED:20210129T144958Z
UID:918-1613057400-1613062800@icejsd.org
SUMMARY:ICEJ February Meeting
DESCRIPTION:ICEJ will be having its monthly meeting on February 11th at 3:30 PM. Contact us for the zoom link!
URL:https://icejsd.org/calendar/icej-february-meeting/
LOCATION:Zoom Link
END:VEVENT
END:VCALENDAR