BEGIN:VCALENDAR
VERSION:2.0
PRODID:-// - ECPv6.13.2//NONSGML v1.0//EN
CALSCALE:GREGORIAN
METHOD:PUBLISH
X-ORIGINAL-URL:https://icejsd.org
X-WR-CALDESC:Events for 
REFRESH-INTERVAL;VALUE=DURATION:PT1H
X-Robots-Tag:noindex
X-PUBLISHED-TTL:PT1H
BEGIN:VTIMEZONE
TZID:America/Los_Angeles
BEGIN:DAYLIGHT
TZOFFSETFROM:-0800
TZOFFSETTO:-0700
TZNAME:PDT
DTSTART:20210314T100000
END:DAYLIGHT
BEGIN:STANDARD
TZOFFSETFROM:-0700
TZOFFSETTO:-0800
TZNAME:PST
DTSTART:20211107T090000
END:STANDARD
END:VTIMEZONE
BEGIN:VEVENT
DTSTART;TZID=America/Los_Angeles:20210408T153000
DTEND;TZID=America/Los_Angeles:20210408T170000
DTSTAMP:20260420T221924
CREATED:20210406T012354Z
LAST-MODIFIED:20210406T013101Z
UID:972-1617895800-1617901200@icejsd.org
SUMMARY:ICEJ April Meeting
DESCRIPTION:We want to invite you to our next ICEJ meeting on Thursday\, April 8th at 3:30-5:00 PM. \n  \nContact us for the Zoom Link!
URL:https://icejsd.org/calendar/icej-april-meeting/
LOCATION:Zoom Link
END:VEVENT
BEGIN:VEVENT
DTSTART;TZID=America/Los_Angeles:20210422T183000
DTEND;TZID=America/Los_Angeles:20210422T194500
DTSTAMP:20260420T221924
CREATED:20210406T013046Z
LAST-MODIFIED:20210406T021221Z
UID:974-1619116200-1619120700@icejsd.org
SUMMARY:Love Letters to Earth
DESCRIPTION:Join the Interfaith Coalition for Earth Justice as we celebrate Earth Day by honoring our connection to our beautiful earth home with story\, song\, and ritual. Have a stone or rock with you. \nFor additional information\, check out our flyer here! \nClick here to register!
URL:https://icejsd.org/calendar/love-letters-to-earth/
LOCATION:Zoom Link
END:VEVENT
END:VCALENDAR