BEGIN:VCALENDAR
VERSION:2.0
PRODID:-// - ECPv6.13.2//NONSGML v1.0//EN
CALSCALE:GREGORIAN
METHOD:PUBLISH
X-ORIGINAL-URL:https://icejsd.org
X-WR-CALDESC:Events for 
REFRESH-INTERVAL;VALUE=DURATION:PT1H
X-Robots-Tag:noindex
X-PUBLISHED-TTL:PT1H
BEGIN:VTIMEZONE
TZID:America/Los_Angeles
BEGIN:DAYLIGHT
TZOFFSETFROM:-0800
TZOFFSETTO:-0700
TZNAME:PDT
DTSTART:20210314T100000
END:DAYLIGHT
BEGIN:STANDARD
TZOFFSETFROM:-0700
TZOFFSETTO:-0800
TZNAME:PST
DTSTART:20211107T090000
END:STANDARD
END:VTIMEZONE
BEGIN:VEVENT
DTSTART;TZID=America/Los_Angeles:20211109T150000
DTEND;TZID=America/Los_Angeles:20211109T163000
DTSTAMP:20260425T071154
CREATED:20211104T081340Z
LAST-MODIFIED:20211110T032922Z
UID:1078-1636470000-1636475400@icejsd.org
SUMMARY:November ICEJ Meeting
DESCRIPTION:We would like to invite you to the next ICEJ meeting which will be held on Tues.\, Nov. 9 3:00-4:30 PM via Zoom. Having had a successful Faiths 4 Climate Justice Witness at places of worship and Rally at the County Administration Building just two weeks ago (see the video in this newsletter)\, we are ready to examine where we will put our energies in the year ahead. We look to plan the next two events in both our Advancing Earth Justice speaker series and Cultivating Resilience workshops. And following up on our Rally\, what are our next steps in eco-justice activism? We need your help to make all this happen–won’t you join us? \n  \nContact us if you’re interested in joining!
URL:https://icejsd.org/calendar/november-icej-meeting/
LOCATION:Zoom Link
END:VEVENT
END:VCALENDAR