BEGIN:VCALENDAR
VERSION:2.0
PRODID:-// - ECPv6.13.2//NONSGML v1.0//EN
CALSCALE:GREGORIAN
METHOD:PUBLISH
X-ORIGINAL-URL:https://icejsd.org
X-WR-CALDESC:Events for 
REFRESH-INTERVAL;VALUE=DURATION:PT1H
X-Robots-Tag:noindex
X-PUBLISHED-TTL:PT1H
BEGIN:VTIMEZONE
TZID:UTC
BEGIN:STANDARD
TZOFFSETFROM:+0000
TZOFFSETTO:+0000
TZNAME:UTC
DTSTART:20220101T000000
END:STANDARD
END:VTIMEZONE
BEGIN:VEVENT
DTSTART;TZID=UTC:20220510T150000
DTEND;TZID=UTC:20220510T163000
DTSTAMP:20260425T155724
CREATED:20220424T044737Z
LAST-MODIFIED:20220424T044831Z
UID:1201-1652194800-1652200200@icejsd.org
SUMMARY:ICEJ May Meeting
DESCRIPTION:ICEJ is continuing to meet monthly to discuss and plan sustainable and equitable initiatives in the San Diego region!  Our next meeting is May 10th at 3-4:30 PM via Zoom. Contact us via email if you’re interested in joining!
URL:https://icejsd.org/calendar/icej-may-meeting-2/
END:VEVENT
END:VCALENDAR