BEGIN:VCALENDAR
VERSION:2.0
PRODID:-// - ECPv6.13.2//NONSGML v1.0//EN
CALSCALE:GREGORIAN
METHOD:PUBLISH
X-ORIGINAL-URL:https://icejsd.org
X-WR-CALDESC:Events for 
REFRESH-INTERVAL;VALUE=DURATION:PT1H
X-Robots-Tag:noindex
X-PUBLISHED-TTL:PT1H
BEGIN:VTIMEZONE
TZID:America/Los_Angeles
BEGIN:DAYLIGHT
TZOFFSETFROM:-0800
TZOFFSETTO:-0700
TZNAME:PDT
DTSTART:20250309T100000
END:DAYLIGHT
BEGIN:STANDARD
TZOFFSETFROM:-0700
TZOFFSETTO:-0800
TZNAME:PST
DTSTART:20251102T090000
END:STANDARD
END:VTIMEZONE
BEGIN:VEVENT
DTSTART;TZID=America/Los_Angeles:20250115T173000
DTEND;TZID=America/Los_Angeles:20250115T183000
DTSTAMP:20260423T061810
CREATED:20241231T061125Z
LAST-MODIFIED:20250124T041817Z
UID:2447-1736962200-1736965800@icejsd.org
SUMMARY:Bringing Light into the Darkness: Pre-inaugural Vigil
DESCRIPTION:In solidarity with GreenFaith communities throughout the country\, the Interfaith Coalition for Earth Justice will hold a pre-Inaugural candlelight vigil\, “Bringing Light into the Darkness\,” on Wednesday\, January 15 from 5:30 – 6:30 pm at the Balboa Park (El Prado & Balboa Drive). Faith community activists and lovers of Earth will gather to shine a light of hope in the darkness of the harmful rhetoric and anticipated actions that threaten climate and social justice progress.  \n\n\n\nThe vigil will feature faith reflections and songs on the theme of light. GreenFaith is a worldwidel multi-faith climate and environmental movement. \n\n\n\nWe also encourage you to sign this GreenFaith pledge – Call to Courage. \n\n\n\nOn-street parking is nearby.   \n\n\n\nAll are welcome regardless of faith or none. \n\n\n\nFor more information\, contact Phil Petrie at phil@icejsd.org
URL:https://icejsd.org/calendar/bringing-light-into-the-darkness-pre-inaugural-vigil/
LOCATION:Balboa Park (El Prado & Balboa Drive)\, El Prado & Balboa Drive\, San Diego\, California\, 92103\, United States
ATTACH;FMTTYPE=image/png:https://icejsd.org/wp-content/uploads/2025/01/Final-Pre-Inaugural-Interfaith-Vigil-Instagram-Post.png
END:VEVENT
END:VCALENDAR