BEGIN:VCALENDAR
VERSION:2.0
PRODID:-// - ECPv6.13.2//NONSGML v1.0//EN
CALSCALE:GREGORIAN
METHOD:PUBLISH
X-ORIGINAL-URL:https://icejsd.org
X-WR-CALDESC:Events for 
REFRESH-INTERVAL;VALUE=DURATION:PT1H
X-Robots-Tag:noindex
X-PUBLISHED-TTL:PT1H
BEGIN:VTIMEZONE
TZID:America/Los_Angeles
BEGIN:DAYLIGHT
TZOFFSETFROM:-0800
TZOFFSETTO:-0700
TZNAME:PDT
DTSTART:20250309T100000
END:DAYLIGHT
BEGIN:STANDARD
TZOFFSETFROM:-0700
TZOFFSETTO:-0800
TZNAME:PST
DTSTART:20251102T090000
END:STANDARD
END:VTIMEZONE
BEGIN:VEVENT
DTSTART;TZID=America/Los_Angeles:20250409T150000
DTEND;TZID=America/Los_Angeles:20250409T163000
DTSTAMP:20260423T013936
CREATED:20250409T200927Z
LAST-MODIFIED:20250411T233825Z
UID:2613-1744210800-1744216200@icejsd.org
SUMMARY:ICEJ April Meeting
DESCRIPTION:ICEJ is continuing to meet monthly to discuss and plan sustainable and equitable initiatives in the San Diego region! All are Welcome! \n\n\n\nOur next meeting is Wednesday\, April 9th at 3 – 4:30 PM via Zoom. Contact us via email for the zoom link if you’re interested in joining\, your participation is valued!
URL:https://icejsd.org/calendar/icej-april-meeting-4/
LOCATION:Zoom
CATEGORIES:Working Group Meeting
ATTACH;FMTTYPE=image/png:https://icejsd.org/wp-content/uploads/2023/08/ICEJ-COALITION-MEETING-.png
END:VEVENT
BEGIN:VEVENT
DTSTART;TZID=America/Los_Angeles:20250412T120000
DTEND;TZID=America/Los_Angeles:20250412T160000
DTSTAMP:20260423T013936
CREATED:20250409T205355Z
LAST-MODIFIED:20250409T214935Z
UID:2616-1744459200-1744473600@icejsd.org
SUMMARY:South Bay Earth Day Fair
DESCRIPTION:Join us at the South County’s Largest Earth Day Celebration on April 12 from 12 – 4 p.m at the Chula Vista Bayfront Park. \n\n\n\nSouth Bay Earth Day – Chula Vista – South Bay Earth Day
URL:https://icejsd.org/calendar/south-bay-earth-day-fair/
LOCATION:Chula Vista Bay Front\, 980 Marina Way\, Chula Vista\, California\, 91910
ATTACH;FMTTYPE=image/png:https://icejsd.org/wp-content/uploads/2025/04/Earth-Day-Poster-1-800x1000-1.png
END:VEVENT
BEGIN:VEVENT
DTSTART;TZID=America/Los_Angeles:20250419T090000
DTEND;TZID=America/Los_Angeles:20250419T130000
DTSTAMP:20260423T013936
CREATED:20250409T210503Z
LAST-MODIFIED:20250409T214835Z
UID:2635-1745053200-1745067600@icejsd.org
SUMMARY:April Hands in Soil: Project New Village
DESCRIPTION:For Earth Month Hands in the Soil is promoting the April 19th Earth Day Celebration with Project New Village at Mt. Hope Community Garden\, 4261 Market\, from 9 am to 1pm.  Garden activities\, arts and crafts\, music\, food\, and drinks are included in this family friendly event\, as well as gardening giveaways. “Project New Village envisions Southeastern San Diego as a community of active neighborhoods supporting and contributing to the health\, wealth and well-being of community members.” Hands in the Soil will be offering future work events in the coming months. \n\n\n\nFor more information\, contact dianelopezhughes@gmail.com
URL:https://icejsd.org/calendar/april-hands-in-soil-project-new-village/
LOCATION:Mt Hope Community Garden\, 4261 Market St\, San Diego\, California\, 92101
ATTACH;FMTTYPE=image/png:https://icejsd.org/wp-content/uploads/2025/04/EarthDay2025_social.png
END:VEVENT
BEGIN:VEVENT
DTSTART;TZID=America/Los_Angeles:20250419T110000
DTEND;TZID=America/Los_Angeles:20250419T170000
DTSTAMP:20260423T013936
CREATED:20250409T205915Z
LAST-MODIFIED:20250411T234012Z
UID:2623-1745060400-1745082000@icejsd.org
SUMMARY:San Diego Earth Fest
DESCRIPTION:Stop by our booth at San Diego EarthFest – San Diego’s Biggest Earth Day Festival on April 19\, 2025 at Balboa Park. \n\n\n\nSan Diego EarthFest is a FREE Earth Day celebration featuring over 100 sustainable food\, craft and service vendors as well as environmental\, conservation and animal rescue groups. Enjoy a full day of entertainment with music\, speakers and panel discussions plus yoga and wellness classes and activities for kids. \n\n\n\nThis event is held in Balboa Park on the expansive lawn located at Park Boulevard and Presidents Way. \n\n\n\nSan Diego EarthFest is family-friendly and dog-friendly with free parking available. This is a zero-waste event. A portion of profits will be donated to local non-profit groups. \n\n\n\nSince the first Earth Day observation in 1970\, more than 1 billion people now participate in Earth Day events each year\, making it the largest civic observance in the world.Learn more about the history of Earth Day
URL:https://icejsd.org/calendar/san-diego-earth-fest/
LOCATION:Balboa Park\, Park Boulevard and Presidents Way\, San Diego\, 92103
ATTACH;FMTTYPE=image/jpeg:https://icejsd.org/wp-content/uploads/2025/04/earthfest.jpg
END:VEVENT
BEGIN:VEVENT
DTSTART;TZID=America/Los_Angeles:20250426T090000
DTEND;TZID=America/Los_Angeles:20250426T110000
DTSTAMP:20260423T013936
CREATED:20250409T211232Z
LAST-MODIFIED:20250409T214817Z
UID:2648-1745658000-1745665200@icejsd.org
SUMMARY:Bearing Witness Where a Border Runs Through
DESCRIPTION:On Saturday\, April 26 we will mindfully walk in the Tijuana River Estuary on the North McCoy Trail. There are 2 walking distances for people to choose from: \n\n\n\nFor those who enjoy a moderately-paced walk we will gather at 9 AM at the Visitor Center at 301 Caspian Way in Imperial Beach\, then head to the River Mouth trail for 1/2 hour out and 1/2 hour back. We’ll  join the rest of the group by 10 AM. \n\n\n\nFor those who prefer a short\, easy trail we will meet at 10 AM at the Visitor Center and end with a blessing ceremony of the river and its estuary by 11 AM. \n\n\n\nThis will be a time of rising tidal waters midst spring blooms and resident as well as migrating wildlife. We will call forth blessings for peace and health for all inhabitants\, both human and wild\, in the embrace of the Tijuana River estuary.  The Visitor Center has displays and information including maps. The two trails are dog friendly. \n\n\n\nFor more information contact: Diana Hartel: Diana.hartel@gmail.com / 541-301-8276
URL:https://icejsd.org/calendar/bearing-witness-where-a-border-runs-through/
LOCATION:Tijuana Estuary Visitor Center\, 301 Caspian Way\, Imperial Beach\, California
ATTACH;FMTTYPE=image/jpeg:https://icejsd.org/wp-content/uploads/2025/04/image0-1-scaled.jpeg
END:VEVENT
BEGIN:VEVENT
DTSTART;TZID=America/Los_Angeles:20250427T000000
DTEND;TZID=America/Los_Angeles:20250427T235900
DTSTAMP:20260423T013936
CREATED:20250409T211907Z
LAST-MODIFIED:20250409T215038Z
UID:2664-1745712000-1745798340@icejsd.org
SUMMARY:St. Paul's Cathedral - Creation Care Sunday
DESCRIPTION:Each year in April\, St. Paul’s Cathedral has a Creation Care Sunday with a service focused on creation care issues and a Sunday forum which does the same.  This year’s Creation Care Sunday will be held on April 27 and ICEJ will present a forum on faith traditions of creation care/earth care and how both faith traditions and creation care are threatened by the Trump administration.  We will close with an activist piece.  Confirmed panelists are Rev. Diana Kosei Hartel (Buddhism)\, Phil Petrie (Christianity) and Imam Taha Hassane (Islam) with Diane Lopez Hughes moderating.  \n\n\n\nThis event\, sponsored by the Cathedral’s Simpler Living ministry\, is FREE and open to the public \n\n\n\nWe will be in the Guild Room of St. Paul’s at 2728 6th Ave\, San Diego. \n\n\n\nFor more information\, contact dianelopezhughes@me.com
URL:https://icejsd.org/calendar/st-pauls-cathedral-creation-care-sunday/
END:VEVENT
END:VCALENDAR